BEGIN:VCALENDAR
VERSION:2.0
PRODID:-//National ICT Confederation of the Philippines - ECPv6.15.20//NONSGML v1.0//EN
CALSCALE:GREGORIAN
METHOD:PUBLISH
X-ORIGINAL-URL:https://nicp.org.ph
X-WR-CALDESC:Events for National ICT Confederation of the Philippines
REFRESH-INTERVAL;VALUE=DURATION:PT1H
X-Robots-Tag:noindex
X-PUBLISHED-TTL:PT1H
BEGIN:VTIMEZONE
TZID:Asia/Manila
BEGIN:STANDARD
TZOFFSETFROM:+0800
TZOFFSETTO:+0800
TZNAME:PST
DTSTART:20240101T000000
END:STANDARD
END:VTIMEZONE
BEGIN:VEVENT
DTSTART;TZID=Asia/Manila:20250403T080000
DTEND;TZID=Asia/Manila:20250405T170000
DTSTAMP:20260421T003302
CREATED:20241116T102245Z
LAST-MODIFIED:20250123T084409Z
UID:3310-1743667200-1743872400@nicp.org.ph
SUMMARY:CLICKCON 2025
DESCRIPTION:The 9th Convergence of Luzon ICT Champions Conference and Exhibit (ClickConEx) 2025 will take place from April 3–5\, 2025\, in San Fernando\, La Union. This annual event\, organized by the National ICT Confederation of the Philippines (NICP)\, aims to foster collaboration among local governments\, ICT professionals\, and key stakeholders to advance digital transformation and economic growth. \nRegister now 
URL:https://nicp.org.ph/event/clickcon2025/
END:VEVENT
BEGIN:VEVENT
DTSTART;TZID=Asia/Manila:20250619T080000
DTEND;TZID=Asia/Manila:20250621T170000
DTSTAMP:20260421T003302
CREATED:20241116T102506Z
LAST-MODIFIED:20250520T032350Z
UID:3315-1750320000-1750525200@nicp.org.ph
SUMMARY:MINDACON2025
DESCRIPTION:Mindanao ICT Conference 2025 \nExperience the Biggest and Most Anticipated ICT Conference in Mindanao. Join the countdown to Mindanao 2025- where innovation meets culture and the future of tech is shaped. \nThe City of Koronadal \nJune 19-21\, 2025 \nRegister now at: Mindacon 2025
URL:https://nicp.org.ph/event/mindacon2025/
ORGANIZER;CN="National ICT Confederation of the Philippines":MAILTO:info@nicp.org.ph
END:VEVENT
BEGIN:VEVENT
DTSTART;TZID=Asia/Manila:20250828T080000
DTEND;TZID=Asia/Manila:20250830T170000
DTSTAMP:20260421T003302
CREATED:20241116T102407Z
LAST-MODIFIED:20250708T123002Z
UID:3313-1756368000-1756573200@nicp.org.ph
SUMMARY:VICTOR2025
DESCRIPTION:This year’s conference theme\,  Advancing ICT Investments and Inclusive Innovation for a Future-Ready Philippines. Focus on Showcasing Visayas as a growing ICT hub contributing to national progress in innovation\, digital skills\, and investment.  Organized by the National ICT Confederation of the Philippines\, in collaboration with the Department of Information and Communications Technology (DICT)\, the Lapu-Lapu ICT Council\, and the Local Government of Lapu-Lapu City. \nEvent Details:\nDate: August 28 – 30\, 2025\nVenue: Hoops Dome\, Lapu Lapu City\, Cebu
URL:https://nicp.org.ph/event/victor2025/
END:VEVENT
END:VCALENDAR