BEGIN:VCALENDAR
VERSION:2.0
PRODID:-//National ICT Confederation of the Philippines - ECPv6.15.20//NONSGML v1.0//EN
CALSCALE:GREGORIAN
METHOD:PUBLISH
X-ORIGINAL-URL:https://nicp.org.ph
X-WR-CALDESC:Events for National ICT Confederation of the Philippines
REFRESH-INTERVAL;VALUE=DURATION:PT1H
X-Robots-Tag:noindex
X-PUBLISHED-TTL:PT1H
BEGIN:VTIMEZONE
TZID:Asia/Manila
BEGIN:STANDARD
TZOFFSETFROM:+0800
TZOFFSETTO:+0800
TZNAME:PST
DTSTART:20240101T000000
END:STANDARD
END:VTIMEZONE
BEGIN:VEVENT
DTSTART;TZID=Asia/Manila:20250403T080000
DTEND;TZID=Asia/Manila:20250405T170000
DTSTAMP:20260420T204045
CREATED:20241116T102245Z
LAST-MODIFIED:20250123T084409Z
UID:3310-1743667200-1743872400@nicp.org.ph
SUMMARY:CLICKCON 2025
DESCRIPTION:The 9th Convergence of Luzon ICT Champions Conference and Exhibit (ClickConEx) 2025 will take place from April 3–5\, 2025\, in San Fernando\, La Union. This annual event\, organized by the National ICT Confederation of the Philippines (NICP)\, aims to foster collaboration among local governments\, ICT professionals\, and key stakeholders to advance digital transformation and economic growth. \nRegister now 
URL:https://nicp.org.ph/event/clickcon2025/
END:VEVENT
END:VCALENDAR