BEGIN:VCALENDAR
VERSION:2.0
PRODID:-//National ICT Confederation of the Philippines - ECPv6.15.20//NONSGML v1.0//EN
CALSCALE:GREGORIAN
METHOD:PUBLISH
X-ORIGINAL-URL:https://nicp.org.ph
X-WR-CALDESC:Events for National ICT Confederation of the Philippines
REFRESH-INTERVAL;VALUE=DURATION:PT1H
X-Robots-Tag:noindex
X-PUBLISHED-TTL:PT1H
BEGIN:VTIMEZONE
TZID:Asia/Manila
BEGIN:STANDARD
TZOFFSETFROM:+0800
TZOFFSETTO:+0800
TZNAME:PST
DTSTART:20230101T000000
END:STANDARD
END:VTIMEZONE
BEGIN:VEVENT
DTSTART;TZID=Asia/Manila:20241113T080000
DTEND;TZID=Asia/Manila:20241116T170000
DTSTAMP:20260420T192500
CREATED:20240320T011630Z
LAST-MODIFIED:20240320T011630Z
UID:2689-1731484800-1731776400@nicp.org.ph
SUMMARY:16th NICP Summit
DESCRIPTION:Event Details:\nNovember 13 – 16\, 2024\nHosted by Balanga\, Bataan
URL:https://nicp.org.ph/event/16th-nicp-summit/
ATTACH;FMTTYPE=image/jpeg:https://nicp.org.ph/wp-content/uploads/2024/03/7472325-.jpg
END:VEVENT
END:VCALENDAR