BEGIN:VCALENDAR
VERSION:2.0
PRODID:-//National ICT Confederation of the Philippines - ECPv6.15.20//NONSGML v1.0//EN
CALSCALE:GREGORIAN
METHOD:PUBLISH
X-ORIGINAL-URL:https://nicp.org.ph
X-WR-CALDESC:Events for National ICT Confederation of the Philippines
REFRESH-INTERVAL;VALUE=DURATION:PT1H
X-Robots-Tag:noindex
X-PUBLISHED-TTL:PT1H
BEGIN:VTIMEZONE
TZID:Asia/Manila
BEGIN:STANDARD
TZOFFSETFROM:+0800
TZOFFSETTO:+0800
TZNAME:PST
DTSTART:20230101T000000
END:STANDARD
END:VTIMEZONE
BEGIN:VEVENT
DTSTART;TZID=Asia/Manila:20240627T080000
DTEND;TZID=Asia/Manila:20240629T170000
DTSTAMP:20260421T184202
CREATED:20240610T044912Z
LAST-MODIFIED:20240610T051016Z
UID:3022-1719475200-1719680400@nicp.org.ph
SUMMARY:Mindacon 2024
DESCRIPTION:Event Details:\nDate: June 27 – 29\, 2024\nVenue: Palacio del Sur\, Zamboanga City\nTheme: “Empowering Digital Mindanao: Innovate\, Collaborate\, Thrive \nAbout MINDACON 2024:\nGet ready for an exciting gathering of innovators and leaders in the ICT sector from June 27-29\, 2024\, in vibrant Zamboanga City. Organized by the National ICT Confederation of the Philippines (NICP) in collaboration with the Department of Information and Communications Technology (DICT) and Mindanao Development Authority (MinDA)\, MINDACON 2024 aims to drive digital transformation and economic growth across Mindanao. Don’t miss this opportunity to engage with top experts\, explore cutting-edge projects\, and network with key stakeholders dedicated to propelling Mindanao towards a digitally enabled future. Be part of the change—be part of MINDACON 2024! \nThe MINDACON series\, initiated to foster collaboration and innovation in the ICT sector\, continues its legacy of uniting stakeholders from government\, business\, academia\, and organizations committed to advancing ICT development in Mindanao. \nComposition of Invited Participants:\nThe conference will convene national and local government officials\, industry leaders\, academicians\, professionals\, startups\, students\, and esteemed representatives from various sectors\, including:\nMunicipal/City Mayor and the Sangguniang Bayan Council\nMunicipal/City Councilors responsible for the ICT Committee\nSangguniang Barangay Officials\nSangguniang Kabataan Officials\nMunicipal/City Information Systems (MIS) Officer\nMunicipal/City Planning and Development Officer\nLocal Economic and Investment Promotion Officer\nMunicipal Agriculture Officer\nMunicipal/City Tourism Officer\nPublic Employment Officer \nPurpose of MINDACON 2024:\nThis year conference will focus on “Empowering Digital Mindanao: Innovate\, Collaborate\, Thrive\,” highlighting the region’s advancements in ICT and innovation. We aim to showcase Zamboanga’s City potential as a hub for digital transformation and economic growth\, particularly in integrating halal practices into the ICT ecosystem. \nAs the excitement builds for MINDACON 2024\, we want to ensure that your experience at the event is nothing short of exceptional. To make your participation even more memorable and convenient\, we are thrilled to offer you the exclusive MINDACON 2024 Kit! \nWe’re thrilled to announce that MINDACON 2024 is free to attend—no\nregistration fee required! However\, for those looking to enhance\ntheir experience and take home a piece of the event\, we’re offering an\nexclusive MINDACON 2024 Kit. \nThis comprehensive kit includes must-have items like a Tote Bag\,\nT-shirt\, and the cutting-edge NICP Contakt Card\, designed to streamline\nyour networking experience. To secure your kit\, simply click on the\n“MINDACON 2024 Kit Availment Form” button. \nKey Contacts for Inquiries and Confirmation:\nZamboanga ICT Council\nEvent Organizer (LDR Events Solution): 0998-982-5318
URL:https://nicp.org.ph/event/mindacon-2024/
LOCATION:Zamboanga City
ATTACH;FMTTYPE=image/png:https://nicp.org.ph/wp-content/uploads/2024/06/MINDACON-POSTING.png
END:VEVENT
END:VCALENDAR